BEGIN:VCALENDAR
VERSION:2.0
PRODID:-//InvisionCommunity Events 4.7.17//EN
METHOD:PUBLISH
CALSCALE:GREGORIAN
REFRESH-INTERVAL:PT15M
X-PUBLISHED-TTL:PT15M
X-WR-CALNAME:Все календари - Форум Трансерфин
	га
NAME:Все календари - Форум Трансерфин
	га
BEGIN:VTIMEZONE
TZID:Europe/London
TZURL:http://tzurl.org/zoneinfo/Europe/London
X-LIC-LOCATION:Europe/London
BEGIN:DAYLIGHT
TZOFFSETFROM:+0000
TZOFFSETTO:+0100
TZNAME:BST
DTSTART:20230326T020000Z
RRULE:FREQ=YEARLY;BYMONTH=3;BYDAY=-1SU
END:DAYLIGHT
BEGIN:STANDARD
TZOFFSETFROM:+0100
TZOFFSETTO:+0000
TZNAME:GMT
DTSTART:20231029T020000Z
RRULE:FREQ=YEARLY;BYMONTH=10;BYDAY=-1SU
END:STANDARD
END:VTIMEZONE
BEGIN:VEVENT
SUMMARY:Марафон Трансерфинга
DTSTAMP:20231125T201012Z
SEQUENCE:0
UID:1-1-ea175f1059439d84e468da4d7fdb76c8@forum.zelandbox.ru
ORGANIZER;CN="Хранитель":komanda@zelandbox.ru
DESCRIPTION:\n	Слайдим здоровье! Читайт
	е подробности.\n\n
DTSTART:20231203T210000Z
DTEND:20231214T205900Z
END:VEVENT
END:VCALENDAR
